BEGIN:VCALENDAR
PRODID:NingEventWidget-v1
VERSION:2.0
METHOD:PUBLISH
BEGIN:VEVENT
UID:4320450:Event:38453
DTSTAMP:20260425T162814Z
SUMMARY:Art at The Center presents Studio Incamminati
DESCRIPTION:Join The Market & Shops at Comcast Center to celebrate t
 he official unveiling of the new exhibit at Art at The Center, a pop-u
 p art gallery featuring works from Studio Incamminati, School for Cont
 emporary Realist Art. Enjoy an evening of light bites, sips, and live
  painting demonstrations by Studio Incamminati students while surround
 ing yourself with their fantastic works.  Kindly RSVP to Cashman & Ass
 ociates by Friday, October 10.  www.cashmanandassociates.com/rsvp Spa
 ce is limited. This invitation is intended for the recipient and one g
 uest.\n\nFor more information visit http://phillytodo.com/events/art-a
 t-the-center-presents-studio-incamminati
DTSTART:20141014T210000Z
DTEND:20141014T230000Z
CATEGORIES:art, exhibition
LOCATION:The Market and Shops at Comcast Center
WEBSITE:https://www.facebook.com/events/609547685821286/
URL:https://www.facebook.com/events/609547685821286/
CONTACT:
ORGANIZER:Cashman & Associates
ATTACH;FMTTYPE="image/jpeg":http://storage.ning.com/topology/rest/1.0/
 file/get/3054980068?profile=original
ATTENDEE;ROLE=REQ-PARTICIPANT;PARTSTAT=ACCEPTED;RSVP=TRUE;CN=CashmanAs
 soc:http://phillytodo.com/profile/CashmanAssoc
END:VEVENT
END:VCALENDAR
