BEGIN:VCALENDAR
PRODID:NingEventWidget-v1
VERSION:2.0
METHOD:PUBLISH
BEGIN:VEVENT
UID:4320450:Event:51812
DTSTAMP:20260425T161543Z
SUMMARY:Art and Craft Beer with a Hint of NoBA
DESCRIPTION:Come out this Saturday August 12 starting at 5:00 pm t
 o experience a preview of Bala Cynwyd’s up-and-coming vibrant commun
 ity development, NoBA. This pop-up event will feature AUTOMAT, a colle
 ctive of Philadelphia artists who showcase diverse works through exhi
 bitions, writing, dialogue and community programming, and Berwyn-based
  La Cabra Brewery will make an appearance as well doling out a taste o
 f their popular, locally-brewed craft beer. Come out and enjoy an extr
 aordinary art gallery, hear the latest news on a vibrant community des
 tination coming soon to Bala Cynwyd, and relax while sipping on your c
 hoice of craft beer!\n\nFor more information visit http://phillytodo.c
 om/events/art-and-craft-beer-with-a-hint-of-noba
DTSTART:20170812T210000Z
DTEND:20170812T230000Z
CATEGORIES:art, exhibit
LOCATION:Bala Avenue
WEBSITE:
URL:
CONTACT:2156271060
ORGANIZER;CN=CashmanAssoc:http://phillytodo.com/profile/CashmanAssoc
ATTACH;FMTTYPE="image/jpeg":
ATTENDEE;ROLE=REQ-PARTICIPANT;PARTSTAT=ACCEPTED;RSVP=TRUE;CN=CashmanAs
 soc:http://phillytodo.com/profile/CashmanAssoc
END:VEVENT
END:VCALENDAR
