BEGIN:VCALENDAR
PRODID:NingEventWidget-v1
VERSION:2.0
METHOD:PUBLISH
BEGIN:VEVENT
UID:4320450:Event:56321
DTSTAMP:20260425T113032Z
SUMMARY:Ardmore- Along Rittenhosue Place at Lancaster Avenue
DESCRIPTION:Join us for a Flea Market along Rittenhouse Place at Lanca
 ster Avenue (44 E. Lancaster Ave, Ardmore,PA 19003) on Sunday, 11/11 8
  am - 5 pm Rain Date: Sunday, November 18.  Vendors From The Tri-State
  Area Featuring An Array Of Vintage Merchandise Such As Antique Furnit
 ure, Collectibles, Vintage Jewelry & Clothing, Artwork, Glassware, Pot
 tery, Primitives, and Much More!  See our website or call for more det
 ails: 215 - 625 - FLEA (3532) www.PhilaFleaMarkets.org\n\n\nFor more i
 nformation visit http://phillytodo.com/events/ardmore-along-rittenhosu
 e-place-at-lancaster-avenue
DTSTART:20181111T130000Z
DTEND:20181111T210000Z
CATEGORIES:flea, market
LOCATION:Ardmore
WEBSITE:https://goo.gl/maps/iXrUy5SXQGP2
URL:https://goo.gl/maps/iXrUy5SXQGP2
CONTACT:2156253532
ORGANIZER;CN="Phila Flea Markets":http://phillytodo.com/profile/PhilaF
 leaMarkets
ATTACH;FMTTYPE="image/jpeg":http://storage.ning.com/topology/rest/1.0/
 file/get/3055015911?profile=original
ATTENDEE;ROLE=REQ-PARTICIPANT;PARTSTAT=ACCEPTED;RSVP=TRUE;CN="Phila Fl
 ea Markets":http://phillytodo.com/profile/PhilaFleaMarkets
END:VEVENT
END:VCALENDAR
