BEGIN:VCALENDAR
PRODID:NingEventWidget-v1
VERSION:2.0
METHOD:PUBLISH
BEGIN:VEVENT
UID:4320450:Event:54629
DTSTAMP:20260425T112904Z
SUMMARY:Arden Drama School Summer Camp Grades 1-5
DESCRIPTION:Arden Summer Camp is where kids come to be creative and co
 llaborative, and perform onstage! Spend the summer exploring the world
  of theatre and make new friends. Keep reading to learn more.\n\nEnrol
 l in camp before March 2 to save $35 off the regular price! Bring your
  sibling or friend - $25 OFF per sibling/friend\n\n\nFor more informat
 ion visit http://phillytodo.com/events/arden-drama-school-summer-camp-
 grades-1-5
DTSTART:20180625T130000Z
DTEND:20180831T200000Z
CATEGORIES:summer, camp
LOCATION:Hamilton Family Arts Center
WEBSITE:http://www.ardentheatre.org/
URL:http://www.ardentheatre.org/
CONTACT:2159221122
ORGANIZER;CN="Arden Theatre Company":http://phillytodo.com/profile/Ard
 enTheatreCompany
ATTACH;FMTTYPE="image/jpeg":http://storage.ning.com/topology/rest/1.0/
 file/get/3055010899?profile=original
ATTENDEE;ROLE=REQ-PARTICIPANT;PARTSTAT=ACCEPTED;RSVP=TRUE;CN="Arden Th
 eatre Company":http://phillytodo.com/profile/ArdenTheatreCompany
END:VEVENT
END:VCALENDAR
