BEGIN:VCALENDAR
PRODID:NingEventWidget-v1
VERSION:2.0
METHOD:PUBLISH
BEGIN:VEVENT
UID:4320450:Event:52071
DTSTAMP:20260425T174252Z
SUMMARY:Apple Pie Compeititon at Subaru Fall Festival at Greensgrow Fa
 rms
DESCRIPTION:Deadline for registration is September 23!  Do you make th
 e best apple pie in town? Show us what you're made of at our apple pie
  competition at our Subaru Fall Fest! The top three bakers will win gr
 eat prizes from Greensgrow and our partners at Subaru! Come by and see
  how talented your neighbors are. After the judges taste the pies weâ€
 ™ll be selling the remainder slices for $3 donation to Greensgrow Farm
 s to help feed our friendly farm animals!  For more info and to regist
 er visit: http://www.greensgrow.org/about-us/subarufallfestival/apple-
 pie-competition/\n\nFor more information visit http://phillytodo.com/e
 vents/apple-pie-compeititon-at-subaru-fall-festival-at-greensgrow-farm
 s
DTSTART:20171007T170000Z
DTEND:20171007T193000Z
CATEGORIES:festival
LOCATION:Greensgrow Farms
WEBSITE:http://www.greensgrow.org/about-us/subarufallfestival/chili-co
 mpetition/
URL:http://www.greensgrow.org/about-us/subarufallfestival/chili-compet
 ition/
CONTACT:215-427-2780
ORGANIZER;CN="Greensgrow Farms":http://phillytodo.com/profile/Greensgr
 owFarms
ATTACH;FMTTYPE="image/jpeg":http://storage.ning.com/topology/rest/1.0/
 file/get/3055004529?profile=original
ATTENDEE;ROLE=REQ-PARTICIPANT;PARTSTAT=ACCEPTED;RSVP=TRUE;CN="Greensgr
 ow Farms":http://phillytodo.com/profile/GreensgrowFarms
END:VEVENT
END:VCALENDAR
