BEGIN:VCALENDAR
PRODID:NingEventWidget-v1
VERSION:2.0
METHOD:PUBLISH
BEGIN:VEVENT
UID:4320450:Event:52622
DTSTAMP:20260425T124911Z
SUMMARY:Apple Festival
DESCRIPTION:Come to the Woodford Mansion Orchard for a free Community 
 Apple Harvest Festival! There will be cider making, heirloom apple tas
 ting, pumpkin painting, live music, children's games, and an apple des
 sert contest—enter yours! Visit the bee hives and make art with prof
 essional artist Heidi Barr. Orchard and mansion tours are FREE!\n \nI
 n 1769 the Pennsylvania Gazette described Woodford’s orchard as “.
 ..a handsome Garden, a thriving Orchard of good Apple Trees, and other
  Fruit, and a Well of excellent water.” Nine years ago, the East Par
 k Revitalization Alliance, Philadelphia Orchard Project, and Philadelp
 hia Parks and Recreation Department teamed up with the Naomi Wood Trus
 t to replant and recreate the orchard at Woodford. Woodford’s orchar
 d today is a contemporary interpretation that is self-sustaining, envi
 ronmentally responsible, and community maintained and harvested.\n\nht
 tp://www.woodfordmansion.org/\n\nFor more information visit http://phi
 llytodo.com/events/apple-festival
DTSTART:20171021T160000Z
DTEND:20171021T180000Z
CATEGORIES:festival
LOCATION:Woodford Mansion
WEBSITE:https://www.facebook.com/events/280035702498550/
URL:https://www.facebook.com/events/280035702498550/
CONTACT:215-229-6115
ORGANIZER:
ATTACH;FMTTYPE="image/jpeg":http://storage.ning.com/topology/rest/1.0/
 file/get/3055010060?profile=original
ATTENDEE;ROLE=REQ-PARTICIPANT;PARTSTAT=ACCEPTED;RSVP=TRUE;CN="Bryan Ch
 an":http://phillytodo.com/profile/BryanChan
END:VEVENT
END:VCALENDAR
