BEGIN:VCALENDAR
PRODID:NingEventWidget-v1
VERSION:2.0
METHOD:PUBLISH
BEGIN:VEVENT
UID:4320450:Event:31869
DTSTAMP:20260425T144733Z
SUMMARY:Antique & Vintage Market On The Parkway
DESCRIPTION:More Than 40 Key Vendors From The Tri-State Area Featuring
  Antiques, Collectibles, Vintage Furniture, Jewelry, Clothing & Access
 ories, Glassware, Pottery & Much More!\nThis Sat, April 20th (Rain Dat
 e - Sunday) 8AM til 4PM\nAround Sister Cities Park - 18th & The Ben Fr
 anklin Parkway\nFree Admission / ATM On Premises / Handicap Accessible
 \nUse 1801 Ben Franklin Parkway, 19103 For GPS\nMore Info: www.PhilaFl
 eaMarkets.org\n\nFor more information visit http://phillytodo.com/even
 ts/antique-vintage-market-on-the-parkway
DTSTART:20130420T120000Z
DTEND:20130420T210000Z
CATEGORIES:vintage, flea, market
LOCATION:Sister Cities Park
WEBSITE:http://www.PhilaFleaMarkets.org
URL:http://www.PhilaFleaMarkets.org
CONTACT:215 - 625 - 3532
ORGANIZER;CN="Phila Flea Markets":http://phillytodo.com/profile/PhilaF
 leaMarkets
ATTACH;FMTTYPE="image/jpeg":http://storage.ning.com/topology/rest/1.0/
 file/get/3054965935?profile=original
ATTENDEE;ROLE=REQ-PARTICIPANT;PARTSTAT=ACCEPTED;RSVP=TRUE;CN="Phila Fl
 ea Markets":http://phillytodo.com/profile/PhilaFleaMarkets
END:VEVENT
END:VCALENDAR
