BEGIN:VCALENDAR
PRODID:NingEventWidget-v1
VERSION:2.0
METHOD:PUBLISH
BEGIN:VEVENT
UID:4320450:Event:38243
DTSTAMP:20260425T144913Z
SUMMARY:Antique & Vintage Market At The Kimmel Center
DESCRIPTION:Phila Flea Markets Presents A Vintage Market Indoors At Th
 e Air Conditioned Kimmel Center On Saturday, August 23rd From 8AM Unti
 l 4PM\nAnique Vendors From The Tri-State Area Will Feature Antique Fur
 niture, Vintage Jewelry, Glassware, Pottery, Art Work and Much More!\n
 For More Information and Their Entire Indoor / Outdoor Market Schedule
 , Log Onto Their Web Site At: www.PhilaFleaMarkets.org\n\nFor more inf
 ormation visit http://phillytodo.com/events/antique-vintage-market-at-
 the-kimmel-center
DTSTART:20140823T120000Z
DTEND:20140823T200000Z
CATEGORIES:vintage, flea, market
LOCATION:The Kimmel Center
WEBSITE:http://www.PhilaFleaMarkets.org
URL:http://www.PhilaFleaMarkets.org
CONTACT:215 - 625 - 3532
ORGANIZER;CN="Phila Flea Markets":http://phillytodo.com/profile/PhilaF
 leaMarkets
ATTACH;FMTTYPE="image/jpeg":http://storage.ning.com/topology/rest/1.0/
 file/get/3054980295?profile=original
ATTENDEE;ROLE=REQ-PARTICIPANT;PARTSTAT=ACCEPTED;RSVP=TRUE;CN="Phila Fl
 ea Markets":http://phillytodo.com/profile/PhilaFleaMarkets
END:VEVENT
END:VCALENDAR
