BEGIN:VCALENDAR
PRODID:NingEventWidget-v1
VERSION:2.0
METHOD:PUBLISH
BEGIN:VEVENT
UID:4320450:Event:51406
DTSTAMP:20260425T144149Z
SUMMARY:Antique &amp; Vintage Market Indoors At The Kimmel Center
DESCRIPTION:Title: Antique & Vintage Market Indoors At The Kimmel Cent
 er\nDescription:\nVendors Featuring Antique Furniture, Collectibles, V
 intage Jewelry & Clothing, Glassware, Art, Primitives and Much MoreSat
 urday's July 29th & August 26th8AM til 4PMFree Admission!\n\n\n\n\n\nO
 rganization: Phila Flea Markets\nVenue: Kimmel Center for the Performi
 ng Arts - Commonwealth Plaza\nAddress: 300 S. Broad Street, Philadelph
 ia, PA 19102\n\nFor more information visit http://phillytodo.com/event
 s/antique-amp-vintage-market-indoors-at-the-kimmel-center
DTSTART:20170729T120000Z
DTEND:20170729T200000Z
CATEGORIES:antique, "&amp", vintage, market
LOCATION:The Kimmel Center
WEBSITE:http://www.PhilaFleaMarkets.org
URL:http://www.PhilaFleaMarkets.org
CONTACT:215 - 625 - 3532
ORGANIZER;CN="Phila Flea Markets":http://phillytodo.com/profile/PhilaF
 leaMarkets
ATTACH;FMTTYPE="image/jpeg":http://storage.ning.com/topology/rest/1.0/
 file/get/3055004660?profile=original
ATTENDEE;ROLE=REQ-PARTICIPANT;PARTSTAT=ACCEPTED;RSVP=TRUE;CN="Phila Fl
 ea Markets":http://phillytodo.com/profile/PhilaFleaMarkets
END:VEVENT
END:VCALENDAR
