BEGIN:VCALENDAR
PRODID:NingEventWidget-v1
VERSION:2.0
METHOD:PUBLISH
BEGIN:VEVENT
UID:4320450:Event:13307
DTSTAMP:20260425T163636Z
SUMMARY:Annual Benefit Reception and Auction Fundraiser
DESCRIPTION:Center City Opera Theater hosts its annual gala dinner at 
 the Sheraton Society Hill.  Guests will have a chance to bid on uniqu
 e and exciting items for the silent auction, which will benefit the no
 n-profit opera company.  More info at operatheater.org\n\nFor more in
 formation visit http://phillytodo.com/events/annual-benefit-reception-
 and
DTSTART:20110623T220000Z
DTEND:20110624T010000Z
CATEGORIES:fundraiser
LOCATION:Sheraton Society Hill Hotel
WEBSITE:http://operatheater.org
URL:http://operatheater.org
CONTACT:215-238-1555
ORGANIZER:Center City Opera Theater
ATTACH;FMTTYPE="image/jpeg":
ATTENDEE;ROLE=REQ-PARTICIPANT;PARTSTAT=ACCEPTED;RSVP=TRUE;CN=Eric:http
 ://phillytodo.com/profile/Eric
END:VEVENT
END:VCALENDAR
