BEGIN:VCALENDAR
PRODID:NingEventWidget-v1
VERSION:2.0
METHOD:PUBLISH
BEGIN:VEVENT
UID:4320450:Event:170233
DTSTAMP:20260425T112547Z
SUMMARY:Andalusia Public Tours
DESCRIPTION:Explore Andalusia Historic House & Gardens during guided
  house tours and self-guided garden tours every Monday-Wednesday, Apr
 il 4 – November 2 (closed holidays). This National Historic Landmark
  home features one of the finest examples of Greek Revival architectur
 e in the country and provides a stunning walk through our nation’s p
 ast. Enjoy exploring the lavish formal gardens and beautiful riverfron
 t grounds! Tours including access to the “Big House” are also avai
 lable. \n\nFor more information visit http://phillytodo.com/events/an
 dalusia-public-tours
DTSTART:20220404T140000Z
DTEND:20221102T190000Z
CATEGORIES:garden, and, arboretums
LOCATION:Andalusia Historic House, Gardens and Arboretum
WEBSITE:https://andalusiapa.ticketleap.com/self-guided-garden-tours-20
 22/
URL:https://andalusiapa.ticketleap.com/self-guided-garden-tours-2022/
CONTACT:(215) 245-5479
ORGANIZER;CN="Bryan Chan":http://phillytodo.com/profile/BryanChan
ATTACH;FMTTYPE="image/jpeg":
ATTENDEE;ROLE=REQ-PARTICIPANT;PARTSTAT=ACCEPTED;RSVP=TRUE;CN="Bryan Ch
 an":http://phillytodo.com/profile/BryanChan
END:VEVENT
END:VCALENDAR
