BEGIN:VCALENDAR
PRODID:NingEventWidget-v1
VERSION:2.0
METHOD:PUBLISH
BEGIN:VEVENT
UID:4320450:Event:54636
DTSTAMP:20260425T114226Z
SUMMARY:Andalusia Open Mondays
DESCRIPTION:Andalusia, the country home of Nicholas Biddle, President 
 of the Second Bank of the United States, is surrounded by spectacular 
 grounds that feature architectural delights, native woodlands, and bre
 athtaking gardens. Placed on the National Register of Historic Landmar
 ks in 1966, the Big House continues to provide an unparalleled look in
 to our nation's past, while allowing visitors a glimpse into the lives
  of a family that helped shape its future. Guided house tours and self
 -guided garden tours are offered every Monday April 2nd through Octobe
 r 29th, excluding holidays. $20 per person, space is limited and reser
 vations are required. Book online at https://andalusiapa.ticketleap.co
 m/andalusia-open-mondays or call 215-245-5479 to reserve your time.\n\
 nFor more information visit http://phillytodo.com/events/andalusia-ope
 n-mondays
DTSTART:20180402T140000Z
DTEND:20181029T170000Z
CATEGORIES:museum, exhibit
LOCATION:Andalusia Estate
WEBSITE:http://www.andalusiapa.org
URL:http://www.andalusiapa.org
CONTACT:
ORGANIZER;CN="Bryan Chan":http://phillytodo.com/profile/BryanChan
ATTACH;FMTTYPE="image/jpeg":http://storage.ning.com/topology/rest/1.0/
 file/get/3055010886?profile=original
ATTENDEE;ROLE=REQ-PARTICIPANT;PARTSTAT=ACCEPTED;RSVP=TRUE;CN="Bryan Ch
 an":http://phillytodo.com/profile/BryanChan
END:VEVENT
END:VCALENDAR
