BEGIN:VCALENDAR
PRODID:NingEventWidget-v1
VERSION:2.0
METHOD:PUBLISH
BEGIN:VEVENT
UID:4320450:Event:51768
DTSTAMP:20260425T143111Z
SUMMARY:Andalusia House and Garden Tours
DESCRIPTION:The country home of Nicholas Biddle, President of the Seco
 nd Bank of the United States, Andalusia is surrounded by spectacular g
 rounds with architectural delights and native woodlands.  Placed on t
 he National Register of Historic Landmarks in 1966, the Big House cont
 inues to provide an unparalleled look into our nation's past, while at
  the same time allowing visitors a glimpse into the lives of a family 
 that helped shape its future. Guided house tours and self-guided garde
 n tours are offered every Monday through October 30th. $20 per person,
  space is limited and reservations are required. Call 215-245-5479 to 
 reserve your time.\n\nFor more information visit http://phillytodo.com
 /events/andalusia-house-and-garden-tours
DTSTART:20170911T220000Z
DTEND:20171030T230000Z
CATEGORIES:historic, house, and, garden, tour
LOCATION:Andalusia House
WEBSITE:http://andalusia.org/
URL:http://andalusia.org/
CONTACT:215-245-5479
ORGANIZER:
ATTACH;FMTTYPE="image/jpeg":http://storage.ning.com/topology/rest/1.0/
 file/get/3055006298?profile=original
ATTENDEE;ROLE=REQ-PARTICIPANT;PARTSTAT=ACCEPTED;RSVP=TRUE;CN="Bryan Ch
 an":http://phillytodo.com/profile/BryanChan
END:VEVENT
END:VCALENDAR
