BEGIN:VCALENDAR
PRODID:NingEventWidget-v1
VERSION:2.0
METHOD:PUBLISH
BEGIN:VEVENT
UID:4320450:Event:171402
DTSTAMP:20260425T100742Z
SUMMARY:Andalusia Historic House, Gardens &amp; Arboretum Garden Sympo
 sium
DESCRIPTION:Andalusia Historic House, Gardens & Arboretum hosts the fi
 rst-ever Andalusia Garden Symposium on May 4, 2023. Garden enthusiasts
 , professional horticulturists, and landscape designers alike will hav
 e the unique opportunity to hear lectures from world-renowned experts 
 Fergus Garrett, Annie Novak, Frances Palmer, and Xa Tollemache. The An
 dalusia Garden Symposium speakers represent a cross-section of experti
 se, from garden and floral design to urban gardening, to integrating o
 rnamental plants into the natural environment. The lectures will be fo
 llowed by an exclusive afternoon reception at Andalusia Historic House
 , Gardens & Arboretum with afternoon tea, book signings with the speak
 ers, and ample time to explore the magnificent grounds.\n\nFor more in
 formation visit http://phillytodo.com/events/andalusia-historic-house-
 gardens-amp-arboretum-garden-symposium
DTSTART:20230504T120000Z
DTEND:20230504T210000Z
CATEGORIES:garden, arboretum
LOCATION:Andalusia Historic House Gardens &amp; Arboretum
WEBSITE:https://andalusiapa.org/events/garden-symposium/
URL:https://andalusiapa.org/events/garden-symposium/
CONTACT:215 245 5479
ORGANIZER:Andalusia
ATTACH;FMTTYPE="image/jpeg":https://storage.ning.com/topology/rest/1.0
 /file/get/10845318699?profile=original
ATTENDEE;ROLE=REQ-PARTICIPANT;PARTSTAT=ACCEPTED;RSVP=TRUE;CN="En Route
  Marketing":http://phillytodo.com/profile/EnRouteMarketing
END:VEVENT
END:VCALENDAR
