BEGIN:VCALENDAR
PRODID:NingEventWidget-v1
VERSION:2.0
METHOD:PUBLISH
BEGIN:VEVENT
UID:4320450:Event:47082
DTSTAMP:20260425T124323Z
SUMMARY:An Introduction to 18th Century Mathematical Instruments
DESCRIPTION:Jeffrey Lock, a nationally recognized expert on 18th-centu
 ry scientific instruments, will give a brief talk at Woodford Mansion 
 to present new additions to the Naomi Wood Antiques Collection, includ
 ing a theodolite and compass, and a set of drafting instruments in a s
 hagreen case.  Mr. Lock has 40 years of experience in the field of ant
 ique restoration and conservation, and has served as a science and tec
 hnology appraiser on the PBS series Antiques Roadshow.  If you would l
 ike to attend this presentation, please RSVP by calling Woodford at (2
 15) 229-6115. Space is limited.\nhttp://woodfordmansion.org/events.php
 \n\nFor more information visit http://phillytodo.com/events/an-introdu
 ction-to-18th-century-mathematical-instruments
DTSTART:20161004T180000Z
DTEND:20161004T190000Z
CATEGORIES:special, presentation
LOCATION:Woodford Mansion
WEBSITE:http://woodfordmansion.org/events.php
URL:http://woodfordmansion.org/events.php
CONTACT:(215) 229-6115
ORGANIZER:Woodford Mansion
ATTACH;FMTTYPE="image/jpeg":http://storage.ning.com/topology/rest/1.0/
 file/get/3054998784?profile=original
ATTENDEE;ROLE=REQ-PARTICIPANT;PARTSTAT=ACCEPTED;RSVP=TRUE;CN="Bryan Ch
 an":http://phillytodo.com/profile/BryanChan
END:VEVENT
END:VCALENDAR
