BEGIN:VCALENDAR
PRODID:NingEventWidget-v1
VERSION:2.0
METHOD:PUBLISH
BEGIN:VEVENT
UID:4320450:Event:168119
DTSTAMP:20260425T124026Z
SUMMARY:An Inspired and Fearless Life | Livestream
DESCRIPTION:Weekend Overview - Saturday, April 3rd & Sunday, April 4th
 \nTune in to the presence of Buddha, and cultivate the strength and po
 wer of a loving heart. Learn how to live an inspired and hope filled l
 ife, directed with spiritual meaning and purpose, and find freedom fro
 m negative emotions that hold you back, such as anxiety, loneliness an
 d fear. Join us for a weekend of teachings and guided meditations on h
 ow to live an inspired and fearless life. Taught by special guest, Gen
  Kelsang Norden, Resident Teacher of Kadampa Meditation Center Georgia
 .\n\nSaturday, April 3rd • 10am - 1pm - The Presence of Buddha\nEver
 ywhere we look these days we see images of Buddha.  His face is on bi
 llboards and t-shirts, his statue is a favorite of interior designers.
 ....but what does it really mean to feel the presence of an enlightene
 d being in your life? This half-day course will explore methods to con
 nect with the loving, peaceful mind of the enlightened Buddha. By deve
 loping a heart relationship to this enlightened being, we can receive 
 inspiration, mental peace and positive energy for our meditation pract
 ice and our daily life.\n\nSCHEDULE:\nSession 1: 10:00am - 11: 15am\nS
 ession 2: 11:4am - 1:00 pm\n\nSunday, April 4th • 10:30 - 11:45am - 
 The Wisdom of Love\nCherishing others is the supreme protection from s
 uffering and problems, and enables us to remain calm and peaceful all 
 the time. In this class, you will learn how to use wisdom to cultivate
  a deeply loving heart that protects both yourself and others from suf
 fering, worry, problems and pain.\n\nCost:        \n$50 for full
  weekend (Saturday & Sunday)\n $40 for Saturday teachings only\n$15 f
 or Sunday teaching only\nRegister at https://www.meditationinphiladelp
 hia.org/inspired-and-fearless/\n\n\nFor more information visit http://
 phillytodo.com/events/an-inspired-and-fearless-life-livestream
DTSTART:20210403T140000Z
DTEND:20210404T154500Z
CATEGORIES:meditation, wellness, spirituality, buddhist
LOCATION:Kadampa Meditation Center Philadelphia Livestream
WEBSITE:https://www.meditationinphiladelphia.org/inspired-and-fearless
 /
URL:https://www.meditationinphiladelphia.org/inspired-and-fearless/
CONTACT:267-702-3817
ORGANIZER;CN="Education Program Coordinator":http://phillytodo.com/pro
 file/EducationProgramCoordinator
ATTACH;FMTTYPE="image/jpeg":https://storage.ning.com/topology/rest/1.0
 /file/get/8641051889?profile=original
ATTENDEE;ROLE=REQ-PARTICIPANT;PARTSTAT=ACCEPTED;RSVP=TRUE;CN="Educatio
 n Program Coordinator":http://phillytodo.com/profile/EducationProgramC
 oordinator
END:VEVENT
END:VCALENDAR
