BEGIN:VCALENDAR
PRODID:NingEventWidget-v1
VERSION:2.0
METHOD:PUBLISH
BEGIN:VEVENT
UID:4320450:Event:59218
DTSTAMP:20260425T114108Z
SUMMARY:An Iliad
DESCRIPTION:The infinite beauty of storytelling consumes this provocat
 ive adaptation of Homer’s classic. The Trojan War is placed beside o
 ur modern day, presenting the allure of wartime heroism and the inevit
 able cost of battle that overshadows all history. Mary Tuomanen return
 s to the Arden and will bring this epic event to the Bob & Selma Horan
  Studio Theatre this winter.\n\n\n\n\n\nFor more information visit htt
 p://phillytodo.com/events/an-iliad
DTSTART:20191113T050000Z
DTEND:20191209T045900Z
CATEGORIES:theatre, performance, drama
LOCATION:Arden Theatre Company - Bob and Selma Horan Studio Theatre
WEBSITE:https://ardentheatre.org/event/an-iliad/2019-04-01/
URL:https://ardentheatre.org/event/an-iliad/2019-04-01/
CONTACT:2159221122
ORGANIZER;CN="Arden Theatre Company":http://phillytodo.com/profile/Ard
 enTheatreCompany
ATTACH;FMTTYPE="image/jpeg":https://storage.ning.com/topology/rest/1.0
 /file/get/3644516530?profile=original
ATTENDEE;ROLE=REQ-PARTICIPANT;PARTSTAT=ACCEPTED;RSVP=TRUE;CN="Arden Th
 eatre Company":http://phillytodo.com/profile/ArdenTheatreCompany
END:VEVENT
END:VCALENDAR
