BEGIN:VCALENDAR
PRODID:NingEventWidget-v1
VERSION:2.0
METHOD:PUBLISH
BEGIN:VEVENT
UID:4320450:Event:35671
DTSTAMP:20260425T125549Z
SUMMARY:An Evening with Jon McGoran, Author of Drift, at Woodbury Publ
 ic Library
DESCRIPTION:Helping us celebrate National Library Week, local author J
 on McGoran joins us to talk about his literary crime thriller, Drift.Â
  Billed as \"An ecological thriller about genetically modified foods a
 nd pharmaceuticals,\" Drift is so much more!Â From Amazon: \"When Phil
 adelphia narcotics detective Doyle Carrick loses his mother and step-f
 ather within weeks of each other, he gains a twenty-day suspension for
  unprofessional behavior and instructions to lay low at the unfamiliar
  house he's inherited in rural Pennsylvania.Feeling restless and out o
 f place, Doyle is surprised to find himself falling for his new neighb
 or, Nola Watkins, who's under pressure to sell her organic farm to a l
 arge and mysterious development company. He's more surprised to see hi
 gh-powered drug dealers driving the small-town roads--dealers his boss
 es don't want to hear about.Â But when the drug bust Doyle's been push
 ing for goes bad and the threats against Nola turn violent, Doyle begi
 ns to discover that what's growing in the farmland around Philadelphia
  is much deadlier than anything he could have imagined . . .Â Quick, c
 lever, and terrifying, Jon McGoran's Drift is a commercial thriller in
  the tradition of Nelson DeMille's Plum Island.\"If that's not enough 
 - did you see all the great reviews? It gets our staff stamp of approv
 al, too. You should check it out - bet you won't be able to put it dow
 n!Books will be available for purchase ($24.99) and signing (free!), o
 r bring your own previously purchased copy.Writing as D. H. Dublin, Jo
 n McGoran is the author of the forensic crime thrillers Freezer Burn, 
 Blood Poison, and Body Trace, from Penguin Books. His short fiction, n
 onfiction and satire have appeared in a variety of publications and an
 thologies. He is a member of the Mystery Writers Association, the Inte
 rnational Association of Crime Writers, and the International Thriller
  Writers, and a founding member of the Liars Club. He is the editor in
  chief of Grid, a magazine covering issues of sustainability. For many
  years, he was Communications Director at Weavers Way Co-op, and edito
 r and publisher of the monthly newspaper, The Shuttle.Learn more about
  Jon and his books here:Â http://www.jonmcgoran.com/Â Free and open to
  the public.\n\nFor more information visit http://phillytodo.com/event
 s/an-evening-with-jon-mcgoran-author-of-drift-at-woodbury-public
DTSTART:20140416T230000Z
DTEND:20140417T010000Z
CATEGORIES:reading, and, discussion
LOCATION:Woodbury Public Library
WEBSITE:
URL:
CONTACT:(856) 845-2611
ORGANIZER:Woodbury Public Library
ATTACH;FMTTYPE="image/jpeg":http://storage.ning.com/topology/rest/1.0/
 file/get/3054973113?profile=original
ATTENDEE;ROLE=REQ-PARTICIPANT;PARTSTAT=ACCEPTED;RSVP=TRUE;CN="Jon McGo
 ran":http://phillytodo.com/profile/Jon
END:VEVENT
END:VCALENDAR
