BEGIN:VCALENDAR
PRODID:NingEventWidget-v1
VERSION:2.0
METHOD:PUBLISH
BEGIN:VEVENT
UID:4320450:Event:45512
DTSTAMP:20260425T144635Z
SUMMARY:An Evening of Arab Music at Penn
DESCRIPTION:Al-Bustan Seeds of Culture, University of Pennsylvania Dep
 artment of Music, and Greenfield Intercultural Center are pleased to p
 resent a performance by members of the Arab Music Ensemble class held 
 at University of Pennsylvania. \n\nLed by Music Director Hanna Khoury
 , Master Percussionist Hafez Kotain, and Cellist/Composer Kinan Abou-a
 fach, the program will feature a medley of songs from across the Arab 
 region with an all-percussion demonstration. \n\nFREE admission with 
 reception following performance.\n\nFor more information visit http://
 phillytodo.com/events/an-evening-of-arab-music-at-penn
DTSTART:20160428T230000Z
DTEND:20160429T003000Z
CATEGORIES:concert
LOCATION:Iron Gate Theater
WEBSITE:https://www.facebook.com/events/228334494192817/
URL:https://www.facebook.com/events/228334494192817/
CONTACT:
ORGANIZER;CN="Al-Bustan Seeds of Culture":http://phillytodo.com/profil
 e/AlBustanSeedsofCulture
ATTACH;FMTTYPE="image/jpeg":http://storage.ning.com/topology/rest/1.0/
 file/get/3054995930?profile=original
ATTENDEE;ROLE=REQ-PARTICIPANT;PARTSTAT=ACCEPTED;RSVP=TRUE;CN="Al-Busta
 n Seeds of Culture":http://phillytodo.com/profile/AlBustanSeedsofCultu
 re
END:VEVENT
END:VCALENDAR
