BEGIN:VCALENDAR
PRODID:NingEventWidget-v1
VERSION:2.0
METHOD:PUBLISH
BEGIN:VEVENT
UID:4320450:Event:4904
DTSTAMP:20260425T192929Z
SUMMARY:An Evening in Franklin Square
DESCRIPTION:, Historic Philadelphia, Inc. will host An Evening in Fran
 klin Square presented by Parx Casino. This third annual fundraising ev
 ent will benefit a regional treasure and build upon the success that F
 ranklin Square has experienced since opening to the public in July 200
 6.  The event will begin at 5:30 pm with cocktails and a silent aucti
 on. \nAt 7 pm, the guests will be invited to enjoy dinner along with 
 a live auction and dancing. The Governor’s Cup Mini Golf Tournament 
 will kick off at 4:30 pm with a shotgun start.\n \nThe Honorary Chair
  of An Evening in Franklin Square is Philadelphia Mayor Michael A. Nut
 ter and the Chair of the event is Randy Chapman of Chapman Auto Group\
 n\nFor more information visit http://phillytodo.com/events/an-evening-
 in-franklin-square
DTSTART:20110519T203000Z
DTEND:20110520T023000Z
CATEGORIES:outdoors, fundraiser
LOCATION:Franklin Square
WEBSITE:
URL:
CONTACT:
ORGANIZER:Historic Philadelphia Inc.
ATTACH;FMTTYPE="image/jpeg":http://storage.ning.com/topology/rest/1.0/
 file/get/3054954710?profile=original
ATTENDEE;ROLE=REQ-PARTICIPANT;PARTSTAT=ACCEPTED;RSVP=TRUE;CN="Cari Fei
 ler Bender":http://phillytodo.com/profile/CariFeilerBender
END:VEVENT
END:VCALENDAR
