BEGIN:VCALENDAR
PRODID:NingEventWidget-v1
VERSION:2.0
METHOD:PUBLISH
BEGIN:VEVENT
UID:4320450:Event:58115
DTSTAMP:20260425T112721Z
SUMMARY:Among the Dead by Hansol Jung
DESCRIPTION:Among the Dead by Hansol Jung  \nTitle: Among the Dead by
  Hansol Jung\nLocation: 1340 S. 13thstreet, Philadelphia PA 19147\nDat
 e: May 2-26\nTime: Mon-Thurs - 7pm, Fri & Sat- 8pm, Sunday- 3pm\nDescr
 iption:Among the Deadis a dark and poignant comedy about a family brok
 en apart by betrayed promises and finding each other again through SPA
 M, journals, and Jesus. A shape-shifting Jesus serves as the intermedi
 ary of this story, which weaves together three separate time periods t
 hrough one central location – a small hotel room in Korea. Among the
  Deadfollows a young American soldier fighting in the jungles of Myanm
 ar in 1944; a Korean “comfort woman” in 1950s Seoul awaiting the r
 eturn of the American soldier who fathered her daughter; and a young K
 orean American woman traveling to Seoul in 1975 to retrieve her recent
 ly deceased father’s ashes.\n \n“Comedy of the laugh-out-loud var
 iety is the surprising top note in Hansol Jung’s surreal, somberly t
 itled “Among the Dead,” a smart and stinging new play that delves 
 into painful business indeed.” – The New York Times\n \nCost: Tic
 ket prices range from $10-$40\nWebsite: http://www.theatreexile.org\n\
 nFor more information visit http://phillytodo.com/events/among-the-dea
 d-by-hansol-jung
DTSTART:20190502T230000Z
DTEND:20190526T230000Z
CATEGORIES:theatre
LOCATION:Theatre Exile
WEBSITE:
URL:
CONTACT:
ORGANIZER:
ATTACH;FMTTYPE="image/jpeg":https://storage.ning.com/topology/rest/1.0
 /file/get/1802516213?profile=original
ATTENDEE;ROLE=REQ-PARTICIPANT;PARTSTAT=ACCEPTED;RSVP=TRUE;CN="Bryan Ch
 an":http://phillytodo.com/profile/BryanChan
END:VEVENT
END:VCALENDAR
