BEGIN:VCALENDAR
PRODID:NingEventWidget-v1
VERSION:2.0
METHOD:PUBLISH
BEGIN:VEVENT
UID:4320450:Event:57001
DTSTAMP:20260425T123412Z
SUMMARY:Amitayus Retreat
DESCRIPTION:There’s nothing more precious to us than our life. Becau
 se we have a precious human life, we have the opportunity to experienc
 e both temporary and ultimate happiness. We need a long life. If we lo
 se this life, we shall lose the opportunity to practice Dharma and att
 ain liberation and enlightenment.\nTo overcome obstacles to long life 
 and good health, we need to increase our lifespan and our wisdom. The 
 principal method for doing this is the yoga of Buddha Amitayus.\nSessi
 ons: 10:30 – 11:30am 12:30 – 1:30pm 3:00 – 4:00pm 5:00 – 6:00p
 m\nCost: $5/session or $15/day\nEveryone is welcome.\n\nFor more infor
 mation visit http://phillytodo.com/events/amitayus-retreat
DTSTART:20190202T153000Z
DTEND:20190202T230000Z
CATEGORIES:meditation, buddhism
LOCATION:Kadampa Meditation Center Philadelphia
WEBSITE:http://www.meditationinphiladelphia.org/amitayus-retreat-feb-2
 /
URL:http://www.meditationinphiladelphia.org/amitayus-retreat-feb-2/
CONTACT:267-702-3817
ORGANIZER;CN="Education Program Coordinator":http://phillytodo.com/pro
 file/EducationProgramCoordinator
ATTACH;FMTTYPE="image/jpeg":
ATTENDEE;ROLE=REQ-PARTICIPANT;PARTSTAT=ACCEPTED;RSVP=TRUE;CN="Educatio
 n Program Coordinator":http://phillytodo.com/profile/EducationProgramC
 oordinator
END:VEVENT
END:VCALENDAR
