BEGIN:VCALENDAR
PRODID:NingEventWidget-v1
VERSION:2.0
METHOD:PUBLISH
BEGIN:VEVENT
UID:4320450:Event:27501
DTSTAMP:20260425T145758Z
SUMMARY:American Red Cross Annual Blood Drive at New Jersey Motorsport
 s Park
DESCRIPTION:Saturday, July 21, 2012 - 7 a.m. – 3 p.m.\nDonors will r
 eceive two (2) FREE adult general admission 3-day tickets to the AMA r
 ace taking place at New Jersey Motorsports Park September 7 – 9, 201
 2 — and a free, branded gift too.\nOn Donation Day, July 21, there w
 ill be random drawings and door prizes including: Pace Car Ride-A-Long
 s on Track and sponsor donated gifts!Click here to REGISTER TO GIVE BL
 OOD  (MUST BE PRE-REGISTERED) or call 1-800-REDCROSS and ask for the 
 July 21  New Jersey Motorsports Park date.\n\nFor more information vi
 sit http://phillytodo.com/events/american-red-cross-annual-blood-drive
 -at-new-jersey-motorsports
DTSTART:20120721T040000Z
DTEND:20120722T035900Z
CATEGORIES:blood, drive
LOCATION:New Jersey Motorsports Park
WEBSITE:http://www.njmp.com/blood
URL:http://www.njmp.com/blood
CONTACT:856-327-7265
ORGANIZER;CN="New Jersey Motorsports Park":http://phillytodo.com/profi
 le/NewJerseyMotorsportsPark
ATTACH;FMTTYPE="image/jpeg":
ATTENDEE;ROLE=REQ-PARTICIPANT;PARTSTAT=ACCEPTED;RSVP=TRUE;CN="New Jers
 ey Motorsports Park":http://phillytodo.com/profile/NewJerseyMotorsport
 sPark
END:VEVENT
END:VCALENDAR
