BEGIN:VCALENDAR
PRODID:NingEventWidget-v1
VERSION:2.0
METHOD:PUBLISH
BEGIN:VEVENT
UID:4320450:Event:1438
DTSTAMP:20260425T163039Z
SUMMARY:Amateur Go-Go Contest & Hip Hop Dance Party Benefit for Baby C
 heezwitts
DESCRIPTION:Sadly, the March 9th Anti-Bestiality Educational Outreach 
 was marred by violence. Video Circus employee Baby Cheezwits was the t
 arget of anti-puppet prejudice and has fallen into a state of psychoti
 c agoraphobia. Being an inanimate object, he appears to be immune to m
 edications and therapy.\n\nTo help raise awareness about puppet persec
 ution, the Swellco & Swellco Video Circus will be holding an amateur g
 o-go contest and hip hop dance party.\n\n-Party starts at 10:00\n-Cont
 est Starts at 11:30\n-FIRST PRIZE $100 CASH AND $100 GIFT CERTIFICATE 
 FOR PASSIONAL BOUTIQUE\n-Second prize an old shoe full of Dirty Diamon
 d’s used condoms.\n-Street clothes or costumes, fully dressed or str
 ipped down, male or female, you do what you need to win.\n-No genitali
 a may be exposed; bring pasties (or merkins?) or we will provide elect
 rical tape.\n\n$5 gets you in and a complimentary can of PBR (While su
 pplies last).\n$3 if you bring a puppet. (Offer excludes finger puppet
 s and paper bags).\n\nDope Lyrics and Dope Beats provided by DJ Roofeo
 \n\nHosted by Louise LaTease & Dirty Diamond\n\nJudging the contest wi
 ll be local super stars Uncle Wheattoast, Needles Jones and Helvis Pre
 sley\n\nSponsored by\nPassional Boutique\n& Pabst Blue Ribbon\n\nA vid
 eo of Baby Cheezwits describing his ordeal can be found here: http://s
 wellco2000.com/2010/04/amateur-gogo-contest-hip-hop-dance-party-benifi
 t-baby-cheezwitts-18th/\n\nFor more information visit http://phillytod
 o.com/events/amateur-gogo-contest-hip-hop
DTSTART:20100519T020000Z
DTEND:20100519T060000Z
CATEGORIES:charity, fundraiser
LOCATION:Bob & Barbara's Lounge
WEBSITE:http://maps.google.com/maps?f=q&source=s_q&hl=en&geocode=&q=15
 09+South+Street+Philadelphia,+PA&sll=37.0625,-95.677068&sspn=51.355924
 ,102.128906&ie=UTF8&hq=&hnear=1509+South+St,+Philadelphia,+Pennsylvani
 a+19146&z=16
URL:http://maps.google.com/maps?f=q&source=s_q&hl=en&geocode=&q=1509+S
 outh+Street+Philadelphia,+PA&sll=37.0625,-95.677068&sspn=51.355924,102
 .128906&ie=UTF8&hq=&hnear=1509+South+St,+Philadelphia,+Pennsylvania+19
 146&z=16
CONTACT:
ORGANIZER;CN="Swellco & Swellco":http://phillytodo.com/profile/Swellco
 Swellco
ATTACH;FMTTYPE="image/jpeg":http://storage.ning.com/topology/rest/1.0/
 file/get/3054946199?profile=original
ATTENDEE;ROLE=REQ-PARTICIPANT;PARTSTAT=ACCEPTED;RSVP=TRUE;CN="Swellco 
 & Swellco":http://phillytodo.com/profile/SwellcoSwellco
END:VEVENT
END:VCALENDAR
