BEGIN:VCALENDAR
PRODID:NingEventWidget-v1
VERSION:2.0
METHOD:PUBLISH
BEGIN:VEVENT
UID:4320450:Event:36575
DTSTAMP:20260425T160112Z
SUMMARY:Always Coming Soon: The Future
DESCRIPTION:Feel more inÂ The Future!Â  Dream better inÂ The Future!Â 
 Â Live forever inÂ The Future! In thisÂ rock and roll cabaret,Â BRAT P
 roductions provides an opportunity to catch a glimpse of what the futu
 re holds.Â Derelict clowns, aggressive barkers, and little old ladiesÂ
  tell the truth about the days to come and the future that isÂ always 
 coming soon.Â Â Always Coming Soon: The FutureÂ runs from May 16-18Â a
 t the Performance Garage, 1515 Brandywine Street.Â  Performances begin
  atÂ 8pm.Â  Tickets are available now for $20 atÂ www.thefuturenearyou
 .com.\n\nFor more information visit http://phillytodo.com/events/alway
 s-coming-soon-the-future
DTSTART:20140517T000000Z
DTEND:20140519T013000Z
CATEGORIES:cabaret
LOCATION:Performance Garage
WEBSITE:
URL:
CONTACT:
ORGANIZER:Brat Productions
ATTACH;FMTTYPE="image/jpeg":http://storage.ning.com/topology/rest/1.0/
 file/get/3054974726?profile=original
ATTENDEE;ROLE=REQ-PARTICIPANT;PARTSTAT=ACCEPTED;RSVP=TRUE;CN="Aversa P
 R & Events":http://phillytodo.com/profile/KoryAversa277
END:VEVENT
END:VCALENDAR
