BEGIN:VCALENDAR
PRODID:NingEventWidget-v1
VERSION:2.0
METHOD:PUBLISH
BEGIN:VEVENT
UID:4320450:Event:38335
DTSTAMP:20260425T141520Z
SUMMARY:Aloha Spirit ★ Luau Pool Party
DESCRIPTION:The ALOHA SPIRIT is coming to North Shore Beach Club. Dig 
 out your favorite Hawaiian shirt or coconut bra and get down Polynesia
 n style.  BEAUTIFUL WEATHER EXPECTED - 83 & Sunny!\n \nNorth Shore B
 each club is a members-only club, but this is NOT a members only event
 !\n\nLuau Featuring:\n \n[ 1 ] 1500 SQ Feet Pool\n[ 2 ] Hawaiian Buff
 et Bar\n[ 3 ] Pig Roast\n[ 4 ] Mai Tai Limbo\n[ 5 ] Complimentary Leis
 \n[ 6 ] HotBox Photobooth\n[ 7 ] Free After Party at Lit Ultrabar\n[ 8
  ] $175 Bottle Specials: Absolute Vodka\n \nLaser Sounds & Disco // 8
 0s.90s.00.Hip Hop.Reggae.Oldschool\n \nTickets are $5 in advance (buy
  tickets below), $10 at the door (if you mention UpcomingEvents.com, $
 15 if not).\n \nEveryone attending will receive VIP Admission to the 
 after party at LIT Ultrabar that goes on until 3:30 AM!\n \nBottle Sp
 ecials with Cabanas, tell them at the door if you want bottle service.
   (limited space available - get there early for cabanas)\n \n21+ Ev
 ent | 7 PM to 12 AM | Casual/Swim Attire\n\nFor ticket information fol
 low the link: http://www.upcomingevents.com/e/aloha-spirit-luau-pool-
 party-19655/?ref=ptodo\n\nFor more information visit http://phillytodo
 .com/events/aloha-spirit-luau-pool-party
DTSTART:20140816T230000Z
DTEND:20140817T060000Z
CATEGORIES:pool, party
LOCATION:North Shore Beach Club
WEBSITE:http://northshorebeachclub.com
URL:http://northshorebeachclub.com
CONTACT:(215)600-2584
ORGANIZER;CN="UpcomingEvents.com":http://phillytodo.com/profile/Upcomi
 ngEventscom
ATTACH;FMTTYPE="image/jpeg":http://storage.ning.com/topology/rest/1.0/
 file/get/3054979773?profile=original
ATTENDEE;ROLE=REQ-PARTICIPANT;PARTSTAT=ACCEPTED;RSVP=TRUE;CN="Upcoming
 Events.com":http://phillytodo.com/profile/UpcomingEventscom
END:VEVENT
END:VCALENDAR
