BEGIN:VCALENDAR
PRODID:NingEventWidget-v1
VERSION:2.0
METHOD:PUBLISH
BEGIN:VEVENT
UID:4320450:Event:49005
DTSTAMP:20260425T161553Z
SUMMARY:All-You-Can-Eat Taco Party - 1 Year Anniversary Revolution Tac
 o
DESCRIPTION:Revolution Taco (2015 Walnut St, Philadelphia) celebrates 
 its first anniversary with an all day celebration on Friday, January 1
 3, 2017. From 12:00pm to 2:00pm, stop by for a free anniversary empana
 da, one per person. From 7:00pm to 10:00pm enjoy an all-you-can-eat ta
 co party for only $30.00 per person. Admission includes five kinds of 
 tacos with chips, salsa, beer samplings and sweets, plus enjoy tunes f
 rom a DJ. Menu includes Braised & Smoked Pig's Head Tacos, Korean Frie
 d Chicken Tacos, Smoked Mushroom Tacos, Chipotle BBQ Brisket Tacos and
  House-made Chorizo Tostada. Tickets are available by calling 267-639-
 5681 or by visiting bit.ly/revolutiontaco1\n\nFor more information vis
 it http://phillytodo.com/events/all-you-can-eat-taco-party-1-year-anni
 versary-revolution-taco
DTSTART:20170114T000000Z
DTEND:20170114T030000Z
CATEGORIES:anniversary, party
LOCATION:Revolution Taco
WEBSITE:https://www.eventbrite.com/e/one-year-anniversary-taco-party-t
 ickets-31012933519?aff=es2
URL:https://www.eventbrite.com/e/one-year-anniversary-taco-party-ticke
 ts-31012933519?aff=es2
CONTACT:(267) 639-5681
ORGANIZER:Revolution Taco
ATTACH;FMTTYPE="image/jpeg":http://storage.ning.com/topology/rest/1.0/
 file/get/3055002174?profile=original
ATTENDEE;ROLE=REQ-PARTICIPANT;PARTSTAT=ACCEPTED;RSVP=TRUE;CN="Aversa P
 R & Events":http://phillytodo.com/profile/KoryAversa277
END:VEVENT
END:VCALENDAR
