BEGIN:VCALENDAR
PRODID:NingEventWidget-v1
VERSION:2.0
METHOD:PUBLISH
BEGIN:VEVENT
UID:4320450:Event:48336
DTSTAMP:20260425T130717Z
SUMMARY:All's Well That Ends Well by William Shakespeare
DESCRIPTION:Philadelphia Artists’ Collective presents William Shakes
 peare's All's Well That Ends Well from November 30 to December 17, 201
 6 at Broad Street Ministry (315 S. Broad Street). Helena can heal an a
 iling king, outwit any man, travel across countries, and defy death it
 self. But she can't make Bertram love her. In this rarely-produced lat
 e play of William Shakespeare, the comedy seems bittersweet, and the l
 aughter melancholic. In love, and in life, there are no truly happy en
 dings. Tickets are on sale for $25 (or $15 with student identification
  or under 25) by calling (215) 413-1318 or visiting www.philartistscol
 lective.org.\n\nFor more information visit http://phillytodo.com/event
 s/all-s-well-that-ends-well-by-william-shakespeare
DTSTART:20161203T010000Z
DTEND:20161218T030000Z
CATEGORIES:theatre
LOCATION:Broad Street Ministry
WEBSITE:http://www.philartistscollective.org/alls-well-that-ends-well.
 html
URL:http://www.philartistscollective.org/alls-well-that-ends-well.html
CONTACT:215-551-1543
ORGANIZER:Philadelphia Artists Collective
ATTACH;FMTTYPE="image/jpeg":
ATTENDEE;ROLE=REQ-PARTICIPANT;PARTSTAT=ACCEPTED;RSVP=TRUE;CN="Aversa P
 R & Events":http://phillytodo.com/profile/KoryAversa277
END:VEVENT
END:VCALENDAR
