BEGIN:VCALENDAR
PRODID:NingEventWidget-v1
VERSION:2.0
METHOD:PUBLISH
BEGIN:VEVENT
UID:4320450:Event:39034
DTSTAMP:20260425T130626Z
SUMMARY:All About That Baste - Thanksgiving Eve Party!
DESCRIPTION:Join Philly2night and UpcomingEvents.com on the biggest 
 party night of the year -Thanksgiving Eve! Thanksgiving is a time for
  you to be thankful for all the good things in your life - like huge d
 rink specials, great craft beers, open bars, and bottle service! King'
 s Oak is hosting the biggest Thanksgiving Eve party, and you're invite
 d!  \nTickets Include:\n \n\nGeneral Admission\n$5 Advanced tickets
  - buy now, prices will be more at the door!\nDrink Specials from 8-1
 1pm\n$4 Miller Lite & Other Drafts - includes some Craft Beers\n$5 Wel
 l Drinks & Wines\n\n\nVIP Open Bar\nEverything included in General Adm
 ission, PLUS:\n2 hour Premium Open Bar from 8-10pm - Only $15 early b
 ird!!\n\n\nVIP Bottle Service\nIncludes entry into the party for a gro
 up of 4-6 people\nYour own reserved seating for you and your party\nA 
 bottle of your choice\nFireball\nSvedka vodka and flavors\nJack Daniel
 s\nJose Cuervo\nBacardi\n\n\nPlus $100 bottles of Moët champagne\n\n\
 nThe night will also include the hottest music by Special Guest DJ's\n
 \nAbout King's OakCheck out the newly renovated Kings Oak American Gri
 ll & Sports Bar, located just outside of the Piazza on Germantown Ave,
  in Northern Liberties Philadelphia. Great place to have drinks, enjoy
  food and watch the games!\n\nFor more information visit http://philly
 todo.com/events/all-about-that-baste-thanksgiving-eve-party
DTSTART:20141127T010000Z
DTEND:20141127T070000Z
CATEGORIES:thanksgiving, eve, "party!"
LOCATION:King's Oak
WEBSITE:http://www.upcomingevents.com/e/all-about-that-baste-thanksgiv
 ing-eve-party-20760/?ref=ptodo
URL:http://www.upcomingevents.com/e/all-about-that-baste-thanksgiving-
 eve-party-20760/?ref=ptodo
CONTACT:
ORGANIZER;CN="UpcomingEvents.com":http://phillytodo.com/profile/Upcomi
 ngEventscom
ATTACH;FMTTYPE="image/jpeg":http://storage.ning.com/topology/rest/1.0/
 file/get/3054982748?profile=original
ATTENDEE;ROLE=REQ-PARTICIPANT;PARTSTAT=ACCEPTED;RSVP=TRUE;CN="Upcoming
 Events.com":http://phillytodo.com/profile/UpcomingEventscom
END:VEVENT
END:VCALENDAR
