BEGIN:VCALENDAR
PRODID:NingEventWidget-v1
VERSION:2.0
METHOD:PUBLISH
BEGIN:VEVENT
UID:4320450:Event:38002
DTSTAMP:20260425T144331Z
SUMMARY:#ALifestyle Event: Eat Pretty
DESCRIPTION:Please join us on Tuesday, July 22nd from 6pm-8pm for an
  #ALifestyle event featuring health coach, former beauty editor at Ins
 tyle Magazine and author of Eat Pretty: Nutrition for Beauty Inside a
 nd Out, Jolene Hart. Jolene will join Anju Treohan, owner of Anjuthre
 ads, to discuss how to look and feel good from the inside out. Jolene
  will also be sharing how food is the key to beautiful skin, and insp
 iring lifestyle updates in our personal menu's and eating habits. Gue
 sts will enjoy:\n\nComplimentary cocktails\nHealthy bites made by Jole
 ne (from recipes found in Eat Pretty)\nHair removal and facial beauty 
 tips from Jolene and Anju\nRaffle prizes and giveaways, including a s
 igned copy of Eat Pretty and a 1-hour Beauty Is Wellness coaching sess
 ion with Jolene\n\n\nFor more information on the event visit www.gotoa
 nju.com.\n\nFor more information visit http://phillytodo.com/events/al
 ifestyle-event-eat-pretty
DTSTART:20140722T220000Z
DTEND:20140723T000000Z
CATEGORIES:health, and, wellness
LOCATION:Philadelphia PA
WEBSITE:
URL:
CONTACT:
ORGANIZER;CN="Skai Blue Media":http://phillytodo.com/profile/SkaiBlueM
 edia
ATTACH;FMTTYPE="image/jpeg":http://storage.ning.com/topology/rest/1.0/
 file/get/3054978046?profile=original
ATTENDEE;ROLE=REQ-PARTICIPANT;PARTSTAT=ACCEPTED;RSVP=TRUE;CN="Skai Blu
 e Media":http://phillytodo.com/profile/SkaiBlueMedia
END:VEVENT
END:VCALENDAR
