BEGIN:VCALENDAR
PRODID:NingEventWidget-v1
VERSION:2.0
METHOD:PUBLISH
BEGIN:VEVENT
UID:4320450:Event:46909
DTSTAMP:20260425T143224Z
SUMMARY:Alice in Wonderland GayBINGO!
DESCRIPTION:\"We're all mad here...\" GayBINGO is the fabulous, irreve
 rent, campy, wildly popular monthly event that has been entertaining P
 hiladelphia audiences for 20 years!\n \nCelebrating a different theme
  each month, hundreds of people pack the hall in Center City's Gershma
 n Y for a night of good old-fashioned Bingo! with a decidedly differen
 t twist! GayBINGO is hosted by the infamous Bingo Verifying Divas (BVD
 s!) - a wild bunch of drag queens who entertain the crowd with their w
 acky humor and always outrageous costumes.\n \nGayBINGO promises to b
 e an evening of unbridled fun, complete with ridiculous musical number
 s, hilarious drag queen antics, chances to win fabulous prizes, and mu
 ch, much more! Reserved seating tickets on the Bingo floor are $30. Ge
 neral admission tickets in the balcony are $25. Tickets for GayBINGO a
 re on sale at http://www.aidsfundphilly.org/gaybingo.\n \nGayBINGO wa
 s named Best of Philly (Gay Event), won PGN's Lambda Award for Best Fu
 ndraiser, and was the subject of a popular WHYY documentary.  GayBING
 O has also been featured in the LA Times, Washington Post, and USA Tod
 ay.  GayBINGO events have raised over $3.5 million to date.\n \nTwee
 t this: Come out for 21st Season of @GayBINGOPhilly Have fun & raise $
  for HIV/AIDS, tickets: http://bit.ly/1NNcQMt\n\nFor more information 
 visit http://phillytodo.com/events/alice-in-wonderland-gaybingo
DTSTART:20170422T230000Z
DTEND:20170423T020000Z
CATEGORIES:lgbt, nonprofit, fundraiser, bingo, gaybingo, aids, fund, d
 rag, queen
LOCATION:The Gershman Y
WEBSITE:http://www.gershmany.org/
URL:http://www.gershmany.org/
CONTACT:215-731-9255
ORGANIZER:Philadelphia AIDS Fund
ATTACH;FMTTYPE="image/jpeg":http://storage.ning.com/topology/rest/1.0/
 file/get/3054997198?profile=original
ATTENDEE;ROLE=REQ-PARTICIPANT;PARTSTAT=ACCEPTED;RSVP=TRUE;CN="Cari Fei
 ler Bender":http://phillytodo.com/profile/CariFeilerBender
END:VEVENT
END:VCALENDAR
