BEGIN:VCALENDAR
PRODID:NingEventWidget-v1
VERSION:2.0
METHOD:PUBLISH
BEGIN:VEVENT
UID:4320450:Event:55407
DTSTAMP:20260425T112615Z
SUMMARY:Alex Keiper and the Next Generation
DESCRIPTION:The Arden Cabaret Series:Alex Keiper and the Next Generati
 on Cabaret\nBob and Selma Horan Studio Theatre at the Hamilton Family 
 Arts Center\nJune 15 & 16 at 8:00pmTickets:\n\nGeneral Table Seating:Â
  $30Â (PleaseÂ  note: All tables areÂ designated with 4 seats. Â If le
 ss than 4 Â are purchased, other patrons will be seated with you.)\nPr
 emium Tables of Four:Â $200Â \nSubscribers and donors save $5 on gener
 al seating. If you did not receive your discount code, please call the
  box office at 215-922-1122.\n\nAlex Keiper (Ardenâ€™s The Secret Gard
 en, Metamorphoses, A Little Night Music) hosts a cabaret of Philadelph
 iaâ€™s next generation of musical theatre talent. This evening of musi
 c and comedy celebrates the up and coming artists in Philadelphia thea
 tre.\n\nFor more information visit http://phillytodo.com/events/alex-k
 eiper-and-the-next-generation
DTSTART:20180616T000000Z
DTEND:20180616T020000Z
CATEGORIES:concert
LOCATION:Arden Theatre Company
WEBSITE:https://tickets.ardentheatre.org/Online/default.asp
URL:https://tickets.ardentheatre.org/Online/default.asp
CONTACT:2159221122
ORGANIZER;CN="Arden Theatre Company":http://phillytodo.com/profile/Ard
 enTheatreCompany
ATTACH;FMTTYPE="image/jpeg":
ATTENDEE;ROLE=REQ-PARTICIPANT;PARTSTAT=ACCEPTED;RSVP=TRUE;CN="Arden Th
 eatre Company":http://phillytodo.com/profile/ArdenTheatreCompany
END:VEVENT
END:VCALENDAR
