BEGIN:VCALENDAR
PRODID:NingEventWidget-v1
VERSION:2.0
METHOD:PUBLISH
BEGIN:VEVENT
UID:4320450:Event:28734
DTSTAMP:20260425T163124Z
SUMMARY:Aldo Lamberti’s Family of Restaurants Joining Forces for Hur
 ricane Relief
DESCRIPTION:On Friday, November 9, 2012, all of Aldo Lamberti’s Fami
 ly of Restaurants are Joining Forces to Support the Hurricane Sandy NJ
  Relief Efforts Fund. All 6 area restaurants in New Jersey and Pennsyl
 vania will be donating 15% of all lunch and dinner sales to help resid
 ents in New Jersey who were impacted by Superstorm Sandy.\n \nAldo La
 mberti's Family of Restaurants include the flagship, Caffe Aldo Lamber
 ti in Cherry Hill, NJ, as well as, Lamberti's Tutti Toscani in Cherry 
 Hill, NJ, Positano Coast by Aldo Lamberti in Philadelphia, PA, Forno P
 izzeria & Grille in Maple Shade, NJ, Lamberti's Cucina in Feasterville
 , PA and Luna Rossa Biagio Lamberti in Turnersville, NJ.\n \nMake you
 r reservation now to come dine with us and contribute to a worthwhile 
 cause! \n \nTo find the location closest to you, please visit www.la
 mbertis.com or call 1-800-2LAMBERTI. \n\nFor more information visit h
 ttp://phillytodo.com/events/aldo-lamberti-s-family-of-restaurants-join
 ing-forces-for
DTSTART:20121109T050000Z
DTEND:20121110T045900Z
CATEGORIES:charity
LOCATION:Positano Coast by Aldo Lamberti
WEBSITE:http://www.Lambertis.com
URL:http://www.Lambertis.com
CONTACT:856-663-7887
ORGANIZER;CN="Positano Coast":http://phillytodo.com/profile/PositanoCo
 ast
ATTACH;FMTTYPE="image/jpeg":http://storage.ning.com/topology/rest/1.0/
 file/get/3054963068?profile=original
ATTENDEE;ROLE=REQ-PARTICIPANT;PARTSTAT=ACCEPTED;RSVP=TRUE;CN="Positano
  Coast":http://phillytodo.com/profile/PositanoCoast
END:VEVENT
END:VCALENDAR
