BEGIN:VCALENDAR
PRODID:NingEventWidget-v1
VERSION:2.0
METHOD:PUBLISH
BEGIN:VEVENT
UID:4320450:Event:32050
DTSTAMP:20260425T141123Z
SUMMARY:Alcohol & Art Pop-Up
DESCRIPTION:Join us for an evening of local Philly art and tasty ferme
 nted beverages from Yards Brewery! Let's face it--after you've had you
 r obligatory Mother's Day brunch (which may or may not have included a
  self-prescribed mimosa-drinking race with your cousin Ronnie while li
 stening to your Aunt Lucille remind you YET again that you are a failu
 re for not being married), I'm sure that you'll be in dire need of som
 e booze. We promise we'll be supplying as much as you need until you s
 top regretting getting Mom tattooed on your calf (because seriously, w
 ho does that?)  Tickets are $35 in advance, $40 at the door. Includes 
 all you can drink Beer, Wine (and soda, which may or may not also have
  booze in it) at the bar, free looks at some awesome art, and some gif
 t bags.   ALSO, make sure to bring some cash with you to throw in the 
 basket for a chance at the microphone. That's right. LADIES AND GENTLE
 MAN, we bring you, $1 Airing of Grievances, Mother's Edition.   ...AND
  LAST BUT NOT LEAST, a chance to win an auction for a--how do we put t
 his gently?---Relative Disposal Kit.   We know, we're some messed up p
 eople. But so are you, and that's why your RSVPing y-e-s.   Buy advanc
 e tickets at http://giantstepsphilly.com/event_tickets/. Join the conv
 ersation at the Alcohol & Art Pop-Up event on Facebook.\n\nFor more in
 formation visit http://phillytodo.com/events/alcohol-art-pop-up
DTSTART:20130512T213000Z
DTEND:20130513T013000Z
CATEGORIES:art, "craft beer", comedy, pop-up
LOCATION:Yards Brewing Company
WEBSITE:https://www.facebook.com/events/462457833832885/
URL:https://www.facebook.com/events/462457833832885/
CONTACT:
ORGANIZER;CN="Hoa Pham":http://phillytodo.com/profile/HoaPham
ATTACH;FMTTYPE="image/jpeg":http://storage.ning.com/topology/rest/1.0/
 file/get/3054965788?profile=original
ATTENDEE;ROLE=REQ-PARTICIPANT;PARTSTAT=ACCEPTED;RSVP=TRUE;CN="Hoa Pham
 ":http://phillytodo.com/profile/HoaPham
END:VEVENT
END:VCALENDAR
