BEGIN:VCALENDAR
PRODID:NingEventWidget-v1
VERSION:2.0
METHOD:PUBLISH
BEGIN:VEVENT
UID:4320450:Event:36090
DTSTAMP:20260425T160913Z
SUMMARY:Al-Bustan Summer Arts Camp Open House
DESCRIPTION:Join us at Friends Select School to learn about Al-Bustan 
 Summer Arts Camp, an Arab cultural and language camp for K-8th graders
 .\nThis year's camp will be held from July 7-18th at Friends Select Sc
 hool and features Lebanese author and educator Nadine Touma as artist-
 in-residence.\nThe Open House features: art demonstrations, music demo
 nstrations, tours of the facility, meet and greet with teachers & staf
 f, and learn about Artist-in-Residence Nadine Touma.\n\nFor more infor
 mation visit http://phillytodo.com/events/al-bustan-summer-arts-camp-o
 pen-house
DTSTART:20140405T150000Z
DTEND:20140405T170000Z
CATEGORIES:summer, camp, open, house
LOCATION:Friends Select School
WEBSITE:https://www.google.com/maps/place/Friends+Select+School/@39.95
 6098,-75.166929,17z/data=!3m1!4b1!4m2!3m1!1s0x89c6c6323fc59c15:0xda57c
 5f8ee3b6a46
URL:https://www.google.com/maps/place/Friends+Select+School/@39.956098
 ,-75.166929,17z/data=!3m1!4b1!4m2!3m1!1s0x89c6c6323fc59c15:0xda57c5f8e
 e3b6a46
CONTACT:267-809-3668
ORGANIZER;CN="Al-Bustan Seeds of Culture":http://phillytodo.com/profil
 e/AlBustanSeedsofCulture
ATTACH;FMTTYPE="image/jpeg":http://storage.ning.com/topology/rest/1.0/
 file/get/3054973867?profile=original
ATTENDEE;ROLE=REQ-PARTICIPANT;PARTSTAT=ACCEPTED;RSVP=TRUE;CN="Al-Busta
 n Seeds of Culture":http://phillytodo.com/profile/AlBustanSeedsofCultu
 re
END:VEVENT
END:VCALENDAR
