BEGIN:VCALENDAR
PRODID:NingEventWidget-v1
VERSION:2.0
METHOD:PUBLISH
BEGIN:VEVENT
UID:4320450:Event:36013
DTSTAMP:20260425T162945Z
SUMMARY:Al-Bustan Presents \"The Narcicyst\" with Al-Bustan Takht Ense
 mble
DESCRIPTION:Al-Bustan Music's 2014 Concert Season opens with a perform
 ance by Iraqi-Canadian hip-hop/multimedia artist The Narcicyst. A pio
 neer in the Arab hip-hop movement, “Narcy” has shared the stage wi
 th the likes of Mos Def and Kanye West. On March 2nd, \"Narcy\" will p
 erform with Al-Bustan Takht Ensemble in a collaboration that combines 
 Narcy’s hip-hop repertoire with classical Arab music.   Tickets: $3
 0 adults/$15 students Discounts available for season subscribers  Purc
 hase tickets online\n\nFor more information visit http://phillytodo.co
 m/events/al-bustan-presents-the-narcicyst-with-al-bustan-takht-ensembl
 e
DTSTART:20140302T210000Z
DTEND:20140303T000000Z
CATEGORIES:arab, hip-hop, "&", classical, music
LOCATION:Trinity Center for Urban Life
WEBSITE:https://www.google.com/maps/place/Trinity+Center+for+Urban+Lif
 e/@39.9486013,-75.1777932,17z/data=!3m1!4b1!4m2!3m1!1s0x89c6c6387f8d5c
 c5:0x4ff423e0b597360e
URL:https://www.google.com/maps/place/Trinity+Center+for+Urban+Life/@3
 9.9486013,-75.1777932,17z/data=!3m1!4b1!4m2!3m1!1s0x89c6c6387f8d5cc5:0
 x4ff423e0b597360e
CONTACT:267-809-3668
ORGANIZER;CN="Al-Bustan Seeds of Culture":http://phillytodo.com/profil
 e/AlBustanSeedsofCulture
ATTACH;FMTTYPE="image/jpeg":http://storage.ning.com/topology/rest/1.0/
 file/get/3054973489?profile=original
ATTENDEE;ROLE=REQ-PARTICIPANT;PARTSTAT=ACCEPTED;RSVP=TRUE;CN="Al-Busta
 n Seeds of Culture":http://phillytodo.com/profile/AlBustanSeedsofCultu
 re
END:VEVENT
END:VCALENDAR
