BEGIN:VCALENDAR
PRODID:NingEventWidget-v1
VERSION:2.0
METHOD:PUBLISH
BEGIN:VEVENT
UID:4320450:Event:36341
DTSTAMP:20260425T142854Z
SUMMARY:Al-Bustan Music presents: Arab & Latin Rhythms featuring Rolan
 do Morales-Matos
DESCRIPTION:Join virtuoso percussionist ROLANDO MORALES-MATOS and Al-B
 ustan Takht Ensemble for an evening of music that explores the rhythms
  of the Latin American & Arab worlds. Our own master percussionist and
  teaching artist HAFEZ KOTAIN will lead this percussive conversation t
 hat crosses cultures and continents. \nPurchase tickets\n\nFor more i
 nformation visit http://phillytodo.com/events/al-bustan-music-presents
 -arab-latin-rhythms-featuring-rolando
DTSTART:20140524T000000Z
DTEND:20140524T013000Z
CATEGORIES:world, music, concert
LOCATION:Trinity Center for Urban Life
WEBSITE:https://www.google.com/maps/place/Trinity+Center+for+Urban+Lif
 e/@39.9486013,-75.1777932,17z/data=!3m1!4b1!4m2!3m1!1s0x89c6c6387f8d5c
 c5:0x4ff423e0b597360e
URL:https://www.google.com/maps/place/Trinity+Center+for+Urban+Life/@3
 9.9486013,-75.1777932,17z/data=!3m1!4b1!4m2!3m1!1s0x89c6c6387f8d5cc5:0
 x4ff423e0b597360e
CONTACT:267-809-3668
ORGANIZER;CN="Al-Bustan Seeds of Culture":http://phillytodo.com/profil
 e/AlBustanSeedsofCulture
ATTACH;FMTTYPE="image/jpeg":http://storage.ning.com/topology/rest/1.0/
 file/get/3054975135?profile=original
ATTENDEE;ROLE=REQ-PARTICIPANT;PARTSTAT=ACCEPTED;RSVP=TRUE;CN="Al-Busta
 n Seeds of Culture":http://phillytodo.com/profile/AlBustanSeedsofCultu
 re
END:VEVENT
END:VCALENDAR
