BEGIN:VCALENDAR
PRODID:NingEventWidget-v1
VERSION:2.0
METHOD:PUBLISH
BEGIN:VEVENT
UID:4320450:Event:36093
DTSTAMP:20260425T173559Z
SUMMARY:Al-Bustan Arab Music Ensembles Performance
DESCRIPTION:The Philadelphia Arab Music and the Philadelphia Arab Per
 cussion Ensembles will present a FREE concert Thursday, April 10th 
 at 6:30PM at Houston Hall.  These Ensembles have been working togeth
 er all semester under the direction of Hanna Khoury & Hafez Kotain. Th
 ey will be joined by The Moffet School Drummers and The Motivation Hig
 h Arabic Choir, and accompanied by the renowned Al-Bustan Takht Ensemb
 le!\nLight refreshments will follow this concert, which is FREE & OPE
 N TO THE PUBLIC! More information is available here.\n\nFor more info
 rmation visit http://phillytodo.com/events/al-bustan-arab-music-ensemb
 les-performance
DTSTART:20140410T223000Z
DTEND:20140411T000000Z
CATEGORIES:concert
LOCATION:Hall of Flags, Houston Hall, University of Pennsylvania
WEBSITE:https://www.google.com/maps/place/Houston+Hall/@39.950843,-75.
 19389,17z/data=!3m1!4b1!4m2!3m1!1s0x89c6c65a4a041d25:0x804398fb45155bb
 1
URL:https://www.google.com/maps/place/Houston+Hall/@39.950843,-75.1938
 9,17z/data=!3m1!4b1!4m2!3m1!1s0x89c6c65a4a041d25:0x804398fb45155bb1
CONTACT:267-809-3668
ORGANIZER;CN="Al-Bustan Seeds of Culture":http://phillytodo.com/profil
 e/AlBustanSeedsofCulture
ATTACH;FMTTYPE="image/jpeg":http://storage.ning.com/topology/rest/1.0/
 file/get/3054973955?profile=original
ATTENDEE;ROLE=REQ-PARTICIPANT;PARTSTAT=ACCEPTED;RSVP=TRUE;CN="Al-Busta
 n Seeds of Culture":http://phillytodo.com/profile/AlBustanSeedsofCultu
 re
END:VEVENT
END:VCALENDAR
