BEGIN:VCALENDAR
PRODID:NingEventWidget-v1
VERSION:2.0
METHOD:PUBLISH
BEGIN:VEVENT
UID:4320450:Event:35227
DTSTAMP:20260425T173511Z
SUMMARY:Airs of Other Planets
DESCRIPTION:\"Airs of Other Planets\" is a new nine movement, nine com
 poser work for string quartet being premiered on December 8th at 7 pm.
  Hosted by Philadelphia Composers' Ink, the work lasts about one hour 
 and will be followed by a reception at the church where audience membe
 rs will get to meet the composers, performers, and Composers' Ink foun
 ders. There is a suggested donation of $5, and we hope to see you ther
 e!\n\nFor more information visit http://phillytodo.com/events/airs-of-
 other-planets
DTSTART:20131209T000000Z
DTEND:20131209T020000Z
CATEGORIES:concert
LOCATION:The First Baptist Church of Philadelphia
WEBSITE:
URL:
CONTACT:
ORGANIZER;CN="Carly Rapaport-Stein":http://phillytodo.com/profile/Carl
 yRapaportStein
ATTACH;FMTTYPE="image/jpeg":
ATTENDEE;ROLE=REQ-PARTICIPANT;PARTSTAT=ACCEPTED;RSVP=TRUE;CN="Carly Ra
 paport-Stein":http://phillytodo.com/profile/CarlyRapaportStein
END:VEVENT
END:VCALENDAR
