BEGIN:VCALENDAR
PRODID:NingEventWidget-v1
VERSION:2.0
METHOD:PUBLISH
BEGIN:VEVENT
UID:4320450:Event:2454
DTSTAMP:20260425T160115Z
SUMMARY:AIDS Walk Philly - ActionAIDS Team 5
DESCRIPTION:Thanks to AIDSfundPhilly.org\nregistration is now open for
  the AIDS Walk/Run Philadelphia 2010. ActionAIDS is one of the partici
 pants in this years events.\n\nAIDS Walk Philly is the Delaware Valley
 ’s largest annual HIV/AIDS public awareness and fundraising event (2
 15)731-WALK\n\nRegister now! Sunday, October 17, 2010.\n\nActionAIDS r
 eceives 100% of our team generated funds.\nCome join us for a great da
 y, and a great cause.\n\nTwitter.com/AIDSWalkPhilly\nFacebook.com/AIDS
 WalkPhilly\n\nAnd ActionAIDS...\n\n\nTwitter.com/ActionAIDS\nFacebook.
 com/ActionAIDS\n\nsee you there, and share.\n\nFor more information vi
 sit http://phillytodo.com/events/aids-walk-philly-actionaids
DTSTART:20100923T220000Z
DTEND:20100923T230000Z
CATEGORIES:fundraiser
LOCATION:Walk and Run begin at Eakins Oval (in front of the Philadelph
 ia Art Museum)
WEBSITE:http://www.aidsfundphilly.org
URL:http://www.aidsfundphilly.org
CONTACT:(215)731-WALK
ORGANIZER:AIDS Fund
ATTACH;FMTTYPE="image/jpeg":http://storage.ning.com/topology/rest/1.0/
 file/get/3054950624?profile=original
ATTENDEE;ROLE=REQ-PARTICIPANT;PARTSTAT=ACCEPTED;RSVP=TRUE;CN=ActionAID
 S:http://phillytodo.com/profile/ActionAIDS
END:VEVENT
END:VCALENDAR
