BEGIN:VCALENDAR
PRODID:NingEventWidget-v1
VERSION:2.0
METHOD:PUBLISH
BEGIN:VEVENT
UID:4320450:Event:4311
DTSTAMP:20260425T142721Z
SUMMARY:AIDS Fund's Black-Tie GayBINGO
DESCRIPTION:Formal, festive, and fabulous (and all for a good cause)! 
 At the 12th Annual Black-Tie GayBINGO event, come enjoy cocktails and 
 a silent auction, six bingo games, and entertainment from the Bingo Ve
 rifying Divas (BVDs). The BVDs dress in glam drag to entertain the cro
 wd and ensure everyone has laughs and a great time while raising funds
  for HIV and AIDS in Philadelphia. AIDS Fund will award the “Favorit
 e Straight Person of the Year” to Reverend Marlene “Mike” Haines
 , of the Church of Saint Luke and The Epiphany. In addition, the Found
 ers’ Award will be presented to Dukes of Destiny, the renowned blues
  band that has played at every AIDS Walk Philly since the beginning 24
  years ago. The Ferrara Family Volunteers Award will be presented to J
 oe Shenk and Howard Traivers.\n \nTickets are $150 per person. The Cr
 ystal Tea Room is located in the Wanamaker Building, 100 Penn Square E
 ast, Philadelphia. For tickets, call 215-731-9255.\nThe AIDS Fund gran
 t program supports organizations in the Philadelphia Region that provi
 de AIDS and HIV-related services, education, and prevention including 
 increasing public awareness of HIV/AIDS issues. AIDS Fund is the produ
 cer of AIDS Walk Philly, GayBINGO, and other fundraising and awareness
  programs throughout the year. The 25th Annual AIDS Walk Philly will t
 ake place on Sunday, October 16, 2011. Follow AIDS Fund on Facebook an
 d Twitter: www.facebook.com/AIDSWalkPhilly, www.facebook.com/gaybingop
 hilly, and twitter.com/AIDSWalkPhilly.\n\nFor more information visit h
 ttp://phillytodo.com/events/aids-funds-blacktie-gaybingo
DTSTART:20110401T223000Z
DTEND:20110402T023000Z
CATEGORIES:black-tie, fundraiser, lgbt
LOCATION:Crystal Tea Room in the Wanamaker Building
WEBSITE:
URL:
CONTACT:610-527-7673
ORGANIZER;CN="Cari Feiler Bender":http://phillytodo.com/profile/CariFe
 ilerBender
ATTACH;FMTTYPE="image/jpeg":http://storage.ning.com/topology/rest/1.0/
 file/get/3054954627?profile=original
ATTENDEE;ROLE=REQ-PARTICIPANT;PARTSTAT=ACCEPTED;RSVP=TRUE;CN="Cari Fei
 ler Bender":http://phillytodo.com/profile/CariFeilerBender
END:VEVENT
END:VCALENDAR
