BEGIN:VCALENDAR
PRODID:NingEventWidget-v1
VERSION:2.0
METHOD:PUBLISH
BEGIN:VEVENT
UID:4320450:Event:23006
DTSTAMP:20260425T162909Z
SUMMARY:AIDS Fund Presents: Waaaay-Off Broadway GayBINGO!
DESCRIPTION:A tribute to the theater, BVD style!\n \nThis fun event i
 s open to anyone who enjoys campy humor. Prizes range from $100 to a $
 1,000 jackpot.Tickets for GayBINGO are on sale at 215-731-9255. Reserv
 ed Seating tickets on the Bingo floor are$25. General admission ticket
 s in the balcony are $20.\n\nFor more information visit http://phillyt
 odo.com/events/aids-fund-presents-waaaay-off-broadway-gaybingo
DTSTART:20120421T230000Z
DTEND:20120422T040000Z
CATEGORIES:bingo
LOCATION:Gershman Y
WEBSITE:
URL:
CONTACT:
ORGANIZER;CN="Cari Feiler Bender":http://phillytodo.com/profile/CariFe
 ilerBender
ATTACH;FMTTYPE="image/jpeg":
ATTENDEE;ROLE=REQ-PARTICIPANT;PARTSTAT=ACCEPTED;RSVP=TRUE;CN="Cari Fei
 ler Bender":http://phillytodo.com/profile/CariFeilerBender
END:VEVENT
END:VCALENDAR
