BEGIN:VCALENDAR
PRODID:NingEventWidget-v1
VERSION:2.0
METHOD:PUBLISH
BEGIN:VEVENT
UID:4320450:Event:23203
DTSTAMP:20260425T144608Z
SUMMARY:AIDS Fund Presents: Touch-A, Touch-A, Touch-Me GayBINGO!
DESCRIPTION:\"I want to be dirty!\" (Rocky Horror Picture Show)\n \nT
 his fun event is open to anyone who enjoys campy humor. Prizes range f
 rom $100 to a $1,000 jackpot.Tickets for GayBINGO are on sale at 215-7
 31-9255. Reserved Seating tickets on the Bingo floor are$25. General a
 dmission tickets in the balcony are $20.\n\nFor more information visit
  http://phillytodo.com/events/aids-fund-presents-touch-a-touch-a-touch
 -me-gaybingo
DTSTART:20120324T230000Z
DTEND:20120325T040000Z
CATEGORIES:bingo
LOCATION:Gershman Y
WEBSITE:
URL:
CONTACT:
ORGANIZER;CN="Cari Feiler Bender":http://phillytodo.com/profile/CariFe
 ilerBender
ATTACH;FMTTYPE="image/jpeg":
ATTENDEE;ROLE=REQ-PARTICIPANT;PARTSTAT=ACCEPTED;RSVP=TRUE;CN="Cari Fei
 ler Bender":http://phillytodo.com/profile/CariFeilerBender
END:VEVENT
END:VCALENDAR
