BEGIN:VCALENDAR
PRODID:NingEventWidget-v1
VERSION:2.0
METHOD:PUBLISH
BEGIN:VEVENT
UID:4320450:Event:23201
DTSTAMP:20260425T161234Z
SUMMARY:AIDS Fund Presents: Countdown to Mardi Gras GayBINGO!
DESCRIPTION:Sequins, feathers, and beads. Oh my!\nThis fun event is op
 en to anyone who enjoys campy humor. Prizes range from $100 to a $1,00
 0 jackpot.Tickets for GayBINGO are on sale at 215-731-9255. Reserved S
 eating tickets on the Bingo floor are$25. General admission tickets in
  the balcony are $20.\n\nFor more information visit http://phillytodo.
 com/events/aids-fund-presents-countdown-to-mardi-gras-gaybingo
DTSTART:20120212T000000Z
DTEND:20120212T050000Z
CATEGORIES:bingo
LOCATION:The Gershman Y
WEBSITE:
URL:
CONTACT:
ORGANIZER;CN="Cari Feiler Bender":http://phillytodo.com/profile/CariFe
 ilerBender
ATTACH;FMTTYPE="image/jpeg":
ATTENDEE;ROLE=REQ-PARTICIPANT;PARTSTAT=ACCEPTED;RSVP=TRUE;CN="Cari Fei
 ler Bender":http://phillytodo.com/profile/CariFeilerBender
END:VEVENT
END:VCALENDAR
