BEGIN:VCALENDAR
PRODID:NingEventWidget-v1
VERSION:2.0
METHOD:PUBLISH
BEGIN:VEVENT
UID:4320450:Event:42202
DTSTAMP:20260425T191323Z
SUMMARY:'Ahlan': Embracing Our Community With Arab Arts
DESCRIPTION:Al-Bustan Seeds of Culture saysÂ Ahlan! (Welcome)Â and inv
 ites Philadelphia to experience Arab arts and culture!\nFeaturing Al-B
 ustan artists, master teachers, and students, this participatory showc
 ase event celebrates the work of Al-Bustan and brings together familie
 s and individuals for an afternoon of friendship, art-making and live 
 music.\nSCHEDULE OF EVENTS\n2:00 â€“ 5:30:Â  Art-making Stations with 
 Teaching Artists:Â \n\nArabic Calligraphy\nGeometry and Pattern-Making
 \nMosaics\nArabic Alphabet Photo Booth\nHenna Art\n\nLight Fare/Bevera
 ges and Merchandise for Sale\nPerformances:Â \n\n2:30 â€“ 3:15Â Â  Dru
 mming Demonstration and Circle â€“ BYOD (Bring Your Own Drum)\n3:45 â€
 “ 4:45Â Â Â Performance byÂ Al-Bustan Takht EnsembleÂ withÂ Penn Choir
 Â andÂ Moffet ChoirÂ -Â with audience sing along!\n\nFREE | OPEN TO TH
 E PUBLIC | RSVP REQUIRED\n\nFor more information visit http://phillyto
 do.com/events/ahlan-embracing-our-community-with-arab-arts
DTSTART:20151003T180000Z
DTEND:20151003T213000Z
CATEGORIES:arab, arts, and, music
LOCATION:Trinity Center for Urban Life
WEBSITE:http://www.albustanseeds.org/featured-story/embracing-communit
 y-with-arab-arts-event/
URL:http://www.albustanseeds.org/featured-story/embracing-community-wi
 th-arab-arts-event/
CONTACT:2672580228
ORGANIZER;CN="Al-Bustan Seeds of Culture":http://phillytodo.com/profil
 e/AlBustanSeedsofCulture
ATTACH;FMTTYPE="image/jpeg":http://storage.ning.com/topology/rest/1.0/
 file/get/3054990278?profile=original
ATTENDEE;ROLE=REQ-PARTICIPANT;PARTSTAT=ACCEPTED;RSVP=TRUE;CN="Al-Busta
 n Seeds of Culture":http://phillytodo.com/profile/AlBustanSeedsofCultu
 re
END:VEVENT
END:VCALENDAR
