BEGIN:VCALENDAR
PRODID:NingEventWidget-v1
VERSION:2.0
METHOD:PUBLISH
BEGIN:VEVENT
UID:4320450:Event:31495
DTSTAMP:20260425T131555Z
SUMMARY:Afternoon Movie Matinee: Wreck It Ralph
DESCRIPTION:Come out to the library to watch Wreck It Ralph!\n\nFor mo
 re information visit http://phillytodo.com/events/afternoon-movie-mati
 nee-wreck-it-ralph
DTSTART:20130412T200000Z
DTEND:20130412T220000Z
CATEGORIES:movie
LOCATION:Lansdowne Public Library
WEBSITE:http://lansdownepubliclibrary.com/
URL:http://lansdownepubliclibrary.com/
CONTACT:610-623-0239
ORGANIZER;CN="Lansdowne Public Library":http://phillytodo.com/profile/
 LansdownePublicLibrary
ATTACH;FMTTYPE="image/jpeg":http://storage.ning.com/topology/rest/1.0/
 file/get/3054965086?profile=original
ATTENDEE;ROLE=REQ-PARTICIPANT;PARTSTAT=ACCEPTED;RSVP=TRUE;CN="Lansdown
 e Public Library":http://phillytodo.com/profile/LansdownePublicLibrary
END:VEVENT
END:VCALENDAR
