BEGIN:VCALENDAR
PRODID:NingEventWidget-v1
VERSION:2.0
METHOD:PUBLISH
BEGIN:VEVENT
UID:4320450:Event:37119
DTSTAMP:20260425T160907Z
SUMMARY:After the Picnic Featuring RICH MEDINA
DESCRIPTION:SOUND GARDEN HALL PRESENTS:\n\nAfter the Picnic featuring
  Rich Medina\nJoin us after the picnic in the Hacienda Lounge to cont
 inue dancing the night away with world traveled, Rock Steady Crew memb
 er DJ Rich Medina\n\n\n\nFor more information visit http://phillytodo.
 com/events/after-the-picnic-featuring-rich-medina
DTSTART:20140601T030000Z
DTEND:20140601T060000Z
CATEGORIES:dance, party
LOCATION:Sound Garden
WEBSITE:http://www.soundgardenhall.com
URL:http://www.soundgardenhall.com
CONTACT:(847) 268-8331
ORGANIZER:Sound Garden Hall
ATTACH;FMTTYPE="image/jpeg":http://storage.ning.com/topology/rest/1.0/
 file/get/3054975629?profile=original
ATTENDEE;ROLE=REQ-PARTICIPANT;PARTSTAT=ACCEPTED;RSVP=TRUE;CN="Tracy Wa
 shinsky":http://phillytodo.com/profile/TracyWashinsky
END:VEVENT
END:VCALENDAR
