BEGIN:VCALENDAR
PRODID:NingEventWidget-v1
VERSION:2.0
METHOD:PUBLISH
BEGIN:VEVENT
UID:4320450:Event:22702
DTSTAMP:20260425T112404Z
SUMMARY:After Hour Arias
DESCRIPTION:Center City Opera Theater presents \"After Hour Arias.\" J
 oin us for a night of tapas, drink specials, and most importantly free
  music! Members of CCOT's Young Artist Program will be performing some
  opera drinking songs in a relaxed, casual environment. \n\nFor more 
 information visit http://phillytodo.com/events/after-hour-arias
DTSTART:20111209T030000Z
DTEND:20111209T050000Z
CATEGORIES:free, music, specials
LOCATION:Giancarlo's Lounge
WEBSITE:http://www.giancarloslounge.com/
URL:http://www.giancarloslounge.com/
CONTACT:
ORGANIZER:
ATTACH;FMTTYPE="image/jpeg":http://storage.ning.com/topology/rest/1.0/
 file/get/3054954934?profile=original
ATTENDEE;ROLE=REQ-PARTICIPANT;PARTSTAT=ACCEPTED;RSVP=TRUE;CN=Eric:http
 ://phillytodo.com/profile/Eric
END:VEVENT
END:VCALENDAR
