BEGIN:VCALENDAR
PRODID:NingEventWidget-v1
VERSION:2.0
METHOD:PUBLISH
BEGIN:VEVENT
UID:4320450:Event:26152
DTSTAMP:20260425T125715Z
SUMMARY:After Hour Arias
DESCRIPTION:Join the Devil’s Den & Ommegang Brewery as they host a n
 ight of singing with the Center City Opera Theater!\n \nOn Wednesday,
  May 9 th the Devil’s Den will be tapping a selection of limited spe
 cial releases and year round offerings from Ommegang Brewery, from Coo
 perstown, NY. Our Ommegang beer menu will be as following: Duvel Singl
 e, Hennipen, Witte, Art of Darkness, Adoration and Seduction. A specia
 l DiBruno Brother’s cheese plate will be available during the night.
 \n\nFor more information visit http://phillytodo.com/events/after-hour
 -arias-3
DTSTART:20120510T020000Z
DTEND:20120510T030000Z
CATEGORIES:music, opera, classical, beer, tasting, free
LOCATION:Devil's Den
WEBSITE:http://www.devilsdenphilly.com/
URL:http://www.devilsdenphilly.com/
CONTACT:215-238-1555
ORGANIZER:Sam
ATTACH;FMTTYPE="image/jpeg":http://storage.ning.com/topology/rest/1.0/
 file/get/3054958368?profile=original
ATTENDEE;ROLE=REQ-PARTICIPANT;PARTSTAT=ACCEPTED;RSVP=TRUE;CN=Eric:http
 ://phillytodo.com/profile/Eric
END:VEVENT
END:VCALENDAR
