BEGIN:VCALENDAR
PRODID:NingEventWidget-v1
VERSION:2.0
METHOD:PUBLISH
BEGIN:VEVENT
UID:4320450:Event:26512
DTSTAMP:20260425T142544Z
SUMMARY:After Hour Arias
DESCRIPTION:Come spend an evening eating, drinking and hearing beautif
 ul music at After Hour Arias!  The best part? Entrance to \"After Hour
  Arias\" is FREE and open to the public! Just come to Ristorante La Bu
 ca on April 26th for the chance to enjoy drink specials, learn timeles
 s drinking songs and maybe even sing along with member's of Center Cit
 y Opera Theater's Young Artists Program! We hope to see you there!  Le
 arn more about After Hour Arias: http://www.operatheater.org/wp4/after
 -hour-arias/  Learn more about Ristorante La Buca: http://ristlabuca.c
 om/\n\nFor more information visit http://phillytodo.com/events/after-h
 our-arias-2
DTSTART:20120427T020000Z
DTEND:20120427T030000Z
CATEGORIES:music, opera, theater, performance, concert, date, night
LOCATION:Ristorante La Buca
WEBSITE:http://www.operatheater.org/wp4/after-hour-arias/
URL:http://www.operatheater.org/wp4/after-hour-arias/
CONTACT:
ORGANIZER:Sam
ATTACH;FMTTYPE="image/jpeg":http://storage.ning.com/topology/rest/1.0/
 file/get/3054958368?profile=original
ATTENDEE;ROLE=REQ-PARTICIPANT;PARTSTAT=ACCEPTED;RSVP=TRUE;CN=Eric:http
 ://phillytodo.com/profile/Eric
END:VEVENT
END:VCALENDAR
